BEGIN:VCALENDAR
VERSION:2.0
PRODID:-//Women in Nuclear UK - ECPv6.15.12.2//NONSGML v1.0//EN
CALSCALE:GREGORIAN
METHOD:PUBLISH
X-WR-CALNAME:Women in Nuclear UK
X-ORIGINAL-URL:https://winuknew.devbyfuture.co.uk
X-WR-CALDESC:Events for Women in Nuclear UK
REFRESH-INTERVAL;VALUE=DURATION:PT1H
X-Robots-Tag:noindex
X-PUBLISHED-TTL:PT1H
BEGIN:VTIMEZONE
TZID:Europe/London
BEGIN:DAYLIGHT
TZOFFSETFROM:+0000
TZOFFSETTO:+0100
TZNAME:BST
DTSTART:20240331T010000
END:DAYLIGHT
BEGIN:STANDARD
TZOFFSETFROM:+0100
TZOFFSETTO:+0000
TZNAME:GMT
DTSTART:20241027T010000
END:STANDARD
BEGIN:DAYLIGHT
TZOFFSETFROM:+0000
TZOFFSETTO:+0100
TZNAME:BST
DTSTART:20250330T010000
END:DAYLIGHT
BEGIN:STANDARD
TZOFFSETFROM:+0100
TZOFFSETTO:+0000
TZNAME:GMT
DTSTART:20251026T010000
END:STANDARD
BEGIN:DAYLIGHT
TZOFFSETFROM:+0000
TZOFFSETTO:+0100
TZNAME:BST
DTSTART:20260329T010000
END:DAYLIGHT
BEGIN:STANDARD
TZOFFSETFROM:+0100
TZOFFSETTO:+0000
TZNAME:GMT
DTSTART:20261025T010000
END:STANDARD
END:VTIMEZONE
BEGIN:VEVENT
DTSTART;TZID=Europe/London:20250429T090000
DTEND;TZID=Europe/London:20250429T103000
DTSTAMP:20260423T184145
CREATED:20250408T111238Z
LAST-MODIFIED:20250408T111355Z
UID:8911-1745917200-1745922600@winuknew.devbyfuture.co.uk
SUMMARY:WiN Western networking event
DESCRIPTION:Want to meet nuclear professionals in the Western region? \nWould like to discover available careers in nuclear new build? \nOur next in person event will give you the opportunity to do just that! \nLocation: Sedgemoor Campus\, Bath Road\, Bridgewater\, TA6 4DE. \nCome along to this speed networking event – register now at: WiN Western Networking Event Tickets\, Tue 29 Apr 2025 at 09:00 | Eventbrite
URL:https://winuknew.devbyfuture.co.uk/event/win-western-networking-event/
LOCATION:Sedgemoor Campus\, Bath Road\, Bridgewater\, TA6 4DE\, United Kingdom
END:VEVENT
END:VCALENDAR