BEGIN:VCALENDAR
VERSION:2.0
PRODID:-//Women in Nuclear UK - ECPv6.15.12.2//NONSGML v1.0//EN
CALSCALE:GREGORIAN
METHOD:PUBLISH
X-ORIGINAL-URL:https://winuknew.devbyfuture.co.uk
X-WR-CALDESC:Events for Women in Nuclear UK
REFRESH-INTERVAL;VALUE=DURATION:PT1H
X-Robots-Tag:noindex
X-PUBLISHED-TTL:PT1H
BEGIN:VTIMEZONE
TZID:Europe/London
BEGIN:DAYLIGHT
TZOFFSETFROM:+0000
TZOFFSETTO:+0100
TZNAME:BST
DTSTART:20240331T010000
END:DAYLIGHT
BEGIN:STANDARD
TZOFFSETFROM:+0100
TZOFFSETTO:+0000
TZNAME:GMT
DTSTART:20241027T010000
END:STANDARD
BEGIN:DAYLIGHT
TZOFFSETFROM:+0000
TZOFFSETTO:+0100
TZNAME:BST
DTSTART:20250330T010000
END:DAYLIGHT
BEGIN:STANDARD
TZOFFSETFROM:+0100
TZOFFSETTO:+0000
TZNAME:GMT
DTSTART:20251026T010000
END:STANDARD
BEGIN:DAYLIGHT
TZOFFSETFROM:+0000
TZOFFSETTO:+0100
TZNAME:BST
DTSTART:20260329T010000
END:DAYLIGHT
BEGIN:STANDARD
TZOFFSETFROM:+0100
TZOFFSETTO:+0000
TZNAME:GMT
DTSTART:20261025T010000
END:STANDARD
END:VTIMEZONE
BEGIN:VEVENT
DTSTART;TZID=Europe/London:20250327T173000
DTEND;TZID=Europe/London:20250327T203000
DTSTAMP:20260423T155430
CREATED:20250312T122707Z
LAST-MODIFIED:20250312T122707Z
UID:8782-1743096600-1743107400@winuknew.devbyfuture.co.uk
SUMMARY:An Audience with: Early Careers
DESCRIPTION:Join us for an inspiring and insightful event\, “An Audience with Early Careers\,” where you’ll have the opportunity to hear from a diverse panel of professionals at various stages of their careers. Our panellists will share their personal experiences\, the challenges they’ve faced\, and the valuable lessons they’ve learned along the way. \nWhether you’re just starting out or looking to gain new perspectives\, this event is designed to provide you with practical advice and inspiration. You’ll have the chance to ask questions\, engage in meaningful discussions\, and network with like-minded individuals. \nWe also extend a special invitation to senior leadership to attend this event. This is a unique opportunity to gain first-hand insights into the experiences of early career professionals and to learn how their perspectives can inform and enhance leadership strategies. By listening to these voices\, senior leaders can better understand the challenges and opportunities faced by those at the beginning of their career journeys. \nDon’t miss this chance to gain insights from those who have recently navigated the early career landscape. Come and be part of a supportive community that encourages growth and learning. \nThursday 27th March – Ridgeway House\, Harwell Campus\, Didcot \nDoors open 17:30 for networking/refreshments \nPanel discussion starting 18:00 \nRegister through WiN form at https://forms.gle/JqRh6GyNf4oJGHN78 \n(or scan QR code on the poster) \nNI CEB WiN Audience With Early Careers Flyer\n  \n 
URL:https://winuknew.devbyfuture.co.uk/event/an-audience-with-early-careers/
LOCATION:Ridgeway House\, Harwell Campus\, Didcot
CATEGORIES:Central England,London and South East,UK
END:VEVENT
END:VCALENDAR