BEGIN:VCALENDAR
VERSION:2.0
PRODID:-//Women in Nuclear UK - ECPv6.15.12.2//NONSGML v1.0//EN
CALSCALE:GREGORIAN
METHOD:PUBLISH
X-WR-CALNAME:Women in Nuclear UK
X-ORIGINAL-URL:https://winuknew.devbyfuture.co.uk
X-WR-CALDESC:Events for Women in Nuclear UK
REFRESH-INTERVAL;VALUE=DURATION:PT1H
X-Robots-Tag:noindex
X-PUBLISHED-TTL:PT1H
BEGIN:VTIMEZONE
TZID:Europe/London
BEGIN:DAYLIGHT
TZOFFSETFROM:+0000
TZOFFSETTO:+0100
TZNAME:BST
DTSTART:20240331T010000
END:DAYLIGHT
BEGIN:STANDARD
TZOFFSETFROM:+0100
TZOFFSETTO:+0000
TZNAME:GMT
DTSTART:20241027T010000
END:STANDARD
BEGIN:DAYLIGHT
TZOFFSETFROM:+0000
TZOFFSETTO:+0100
TZNAME:BST
DTSTART:20250330T010000
END:DAYLIGHT
BEGIN:STANDARD
TZOFFSETFROM:+0100
TZOFFSETTO:+0000
TZNAME:GMT
DTSTART:20251026T010000
END:STANDARD
BEGIN:DAYLIGHT
TZOFFSETFROM:+0000
TZOFFSETTO:+0100
TZNAME:BST
DTSTART:20260329T010000
END:DAYLIGHT
BEGIN:STANDARD
TZOFFSETFROM:+0100
TZOFFSETTO:+0000
TZNAME:GMT
DTSTART:20261025T010000
END:STANDARD
END:VTIMEZONE
BEGIN:VEVENT
DTSTART;VALUE=DATE:20251015
DTEND;VALUE=DATE:20251017
DTSTAMP:20260423T172359
CREATED:20250929T150907Z
LAST-MODIFIED:20250930T095229Z
UID:9497-1760486400-1760659199@winuknew.devbyfuture.co.uk
SUMMARY:Energy Landscape UK 2025
DESCRIPTION:WiN UK are delighted to be attending Energy Landscape UK\, register here. \nThe Energy Landscape UK 2025 conference is a transformative 2-day event designed to address the next phase of the UK’s energy transition. ELUK2025 will convene industry leaders\, policymakers\, and stakeholders to explore innovative strategies and collaborative solutions for achieving the UK’s net-zero ambitions. \nThis conference will focus on fostering public-private partnerships\, developing the skills necessary for the energy workforce of tomorrow\, and advancing cutting-edge technologies to secure a sustainable and resilient energy future. \nWe look forward to seeing you at this event in the Kia Oval\, London.
URL:https://winuknew.devbyfuture.co.uk/event/energy-landscape-uk-2025/
CATEGORIES:UK
END:VEVENT
BEGIN:VEVENT
DTSTART;TZID=Europe/London:20251015T113000
DTEND;TZID=Europe/London:20251015T140000
DTSTAMP:20260423T172359
CREATED:20250919T130434Z
LAST-MODIFIED:20250919T130507Z
UID:9470-1760527800-1760536800@winuknew.devbyfuture.co.uk
SUMMARY:The Secret of My Success - How I got Here from There
DESCRIPTION:Join us for a inspiring event that celebrates the journeys of women who are helping to shape the future of the nuclear industry.
URL:https://winuknew.devbyfuture.co.uk/event/the-secret-of-my-success-how-i-got-here-from-there/
LOCATION:The Engine Rooms at Birchwood Park
CATEGORIES:North West
END:VEVENT
BEGIN:VEVENT
DTSTART;TZID=Europe/London:20251015T130000
DTEND;TZID=Europe/London:20251015T160000
DTSTAMP:20260423T172359
CREATED:20250818T111920Z
LAST-MODIFIED:20250818T111920Z
UID:9337-1760533200-1760544000@winuknew.devbyfuture.co.uk
SUMMARY:SWNH Careers at University of Bristol
DESCRIPTION:WiN are delighted to be attending South West Nuclear Hub Careers event at University of Bristol. \nPlease come along and see us.
URL:https://winuknew.devbyfuture.co.uk/event/swnh-careers-at-university-of-bristol/
CATEGORIES:UK
END:VEVENT
BEGIN:VEVENT
DTSTART;TZID=Europe/London:20251017T120000
DTEND;TZID=Europe/London:20251017T124500
DTSTAMP:20260423T172359
CREATED:20251002T080910Z
LAST-MODIFIED:20251002T080951Z
UID:9505-1760702400-1760705100@winuknew.devbyfuture.co.uk
SUMMARY:Understanding Menopause: Build Your Knowledge
DESCRIPTION:Despite affecting half the population for a significant portion of their lives\, until recently menopause has not been well understood or talked about—even in medical circles. The result? Many women feel unprepared and unsupported when they reach this life stage and\, at work\, many coworkers and managers are not equipped to support. \nJoin WiN Cumbria to celebrate World Menopause Day to build your knowledge of menopause and how to support people through the transition. Topics covered will include cognitive function\, moods\, weight management and vasomotor symptoms (those dreaded hot flashes and flushes). \nThis isn’t just a women’s issue—it’s a human issue. Let’s work towards building a more informed\, supportive community. \nRegister for this online event here.
URL:https://winuknew.devbyfuture.co.uk/event/understanding-menopause-build-your-knowledge/
CATEGORIES:Cumbria
END:VEVENT
BEGIN:VEVENT
DTSTART;VALUE=DATE:20251018
DTEND;VALUE=DATE:20251021
DTSTAMP:20260423T172359
CREATED:20251002T081617Z
LAST-MODIFIED:20251002T081617Z
UID:9511-1760745600-1761004799@winuknew.devbyfuture.co.uk
SUMMARY:New Scientist Live
DESCRIPTION:WiN UK is delighted to be attending New Scientist Live. \nFrom interactive experiences to talks by the best-loved scientists and top academic minds\, this inspirational and educational festival promises to showcase the latest breakthroughs\, innovations\, and discoveries in science and technology. New Scientist Live is for anyone and everyone who is curious about our brains\, our bodies\, our planet and our universe. \nTickets are available for Saturday or Sunday\, or the whole weekend\, and if you can’t make it to Excel London\, you can join the live stream to ensure you don’t miss out. \nRegister here.
URL:https://winuknew.devbyfuture.co.uk/event/new-scientist-live-2/
CATEGORIES:UK
END:VEVENT
BEGIN:VEVENT
DTSTART;TZID=Europe/London:20251023T170000
DTEND;TZID=Europe/London:20251023T190000
DTSTAMP:20260423T172359
CREATED:20251016T081336Z
LAST-MODIFIED:20251016T081402Z
UID:9541-1761238800-1761246000@winuknew.devbyfuture.co.uk
SUMMARY:Networking & Autumn Social (WiNLondon & South East)
DESCRIPTION:Following success of WiN London & South East previous events\, they are back with another relaxed evening of connection\, conversion and community – bringing together professionals from across the nuclear sector in London & the South East. \nLocation: The Drift 110 Bishopsgate\, London\, EC2N 4AY \nJoin here  \n 
URL:https://winuknew.devbyfuture.co.uk/event/networking-autumn-social-winlondon-south-east/
CATEGORIES:London and South East
END:VEVENT
END:VCALENDAR