BEGIN:VCALENDAR
VERSION:2.0
PRODID:-//Women in Nuclear UK - ECPv6.15.12.2//NONSGML v1.0//EN
CALSCALE:GREGORIAN
METHOD:PUBLISH
X-WR-CALNAME:Women in Nuclear UK
X-ORIGINAL-URL:https://winuknew.devbyfuture.co.uk
X-WR-CALDESC:Events for Women in Nuclear UK
REFRESH-INTERVAL;VALUE=DURATION:PT1H
X-Robots-Tag:noindex
X-PUBLISHED-TTL:PT1H
BEGIN:VTIMEZONE
TZID:Europe/London
BEGIN:DAYLIGHT
TZOFFSETFROM:+0000
TZOFFSETTO:+0100
TZNAME:BST
DTSTART:20240331T010000
END:DAYLIGHT
BEGIN:STANDARD
TZOFFSETFROM:+0100
TZOFFSETTO:+0000
TZNAME:GMT
DTSTART:20241027T010000
END:STANDARD
BEGIN:DAYLIGHT
TZOFFSETFROM:+0000
TZOFFSETTO:+0100
TZNAME:BST
DTSTART:20250330T010000
END:DAYLIGHT
BEGIN:STANDARD
TZOFFSETFROM:+0100
TZOFFSETTO:+0000
TZNAME:GMT
DTSTART:20251026T010000
END:STANDARD
BEGIN:DAYLIGHT
TZOFFSETFROM:+0000
TZOFFSETTO:+0100
TZNAME:BST
DTSTART:20260329T010000
END:DAYLIGHT
BEGIN:STANDARD
TZOFFSETFROM:+0100
TZOFFSETTO:+0000
TZNAME:GMT
DTSTART:20261025T010000
END:STANDARD
END:VTIMEZONE
BEGIN:VEVENT
DTSTART;TZID=Europe/London:20250911T170000
DTEND;TZID=Europe/London:20250911T193000
DTSTAMP:20260423T185525
CREATED:20250818T110534Z
LAST-MODIFIED:20250818T110534Z
UID:9332-1757610000-1757619000@winuknew.devbyfuture.co.uk
SUMMARY:Western Connected: Networking That Works
DESCRIPTION:Panel Theme: Networking That Works \nDiscover how authentic connections can boost confidence\, open doors\, and shape your career in nuclear. Our panel will feature women and allies at different career stages sharing real stories and practical tips — followed by structured networking activities and a relaxed social. \nWhether you’re starting your career\, looking to expand your network\, or keen to support others\, this event is a great way to meet new people and strengthen our community. \nLocation: Auora\, Counterslip\, Redcliffe\, BS1 6BX \nTickets cost £6.13 including drinks and nibbles. \nBook your place here
URL:https://winuknew.devbyfuture.co.uk/event/western-connected-networking-that-works/
CATEGORIES:Western
END:VEVENT
END:VCALENDAR