BEGIN:VCALENDAR
VERSION:2.0
PRODID:-//Women in Nuclear UK - ECPv6.15.12.2//NONSGML v1.0//EN
CALSCALE:GREGORIAN
METHOD:PUBLISH
X-WR-CALNAME:Women in Nuclear UK
X-ORIGINAL-URL:https://winuknew.devbyfuture.co.uk
X-WR-CALDESC:Events for Women in Nuclear UK
REFRESH-INTERVAL;VALUE=DURATION:PT1H
X-Robots-Tag:noindex
X-PUBLISHED-TTL:PT1H
BEGIN:VTIMEZONE
TZID:Europe/London
BEGIN:DAYLIGHT
TZOFFSETFROM:+0000
TZOFFSETTO:+0100
TZNAME:BST
DTSTART:20190331T010000
END:DAYLIGHT
BEGIN:STANDARD
TZOFFSETFROM:+0100
TZOFFSETTO:+0000
TZNAME:GMT
DTSTART:20191027T010000
END:STANDARD
BEGIN:DAYLIGHT
TZOFFSETFROM:+0000
TZOFFSETTO:+0100
TZNAME:BST
DTSTART:20200329T010000
END:DAYLIGHT
BEGIN:STANDARD
TZOFFSETFROM:+0100
TZOFFSETTO:+0000
TZNAME:GMT
DTSTART:20201025T010000
END:STANDARD
BEGIN:DAYLIGHT
TZOFFSETFROM:+0000
TZOFFSETTO:+0100
TZNAME:BST
DTSTART:20210328T010000
END:DAYLIGHT
BEGIN:STANDARD
TZOFFSETFROM:+0100
TZOFFSETTO:+0000
TZNAME:GMT
DTSTART:20211031T010000
END:STANDARD
END:VTIMEZONE
BEGIN:VEVENT
DTSTART;TZID=Europe/London:20201029T110000
DTEND;TZID=Europe/London:20201029T120000
DTSTAMP:20260424T162728
CREATED:20201022T081150Z
LAST-MODIFIED:20201022T081150Z
UID:697-1603969200-1603972800@winuknew.devbyfuture.co.uk
SUMMARY:‘The New Normal’ virtual Coffee Morning
DESCRIPTION:Grab a cup of coffee\, a slice o cake or a biscuit and lets discuss career support and networking in the ‘new normal’. \nTo register contact: WiNscotlandcentral@gmail.com or Felicity.Gillespie@jacobs.com
URL:https://winuknew.devbyfuture.co.uk/event/the-new-normal-coffee-morning/
CATEGORIES:Highlands,Scotland Central
END:VEVENT
BEGIN:VEVENT
DTSTART;VALUE=DATE:20201029
DTEND;VALUE=DATE:20201030
DTSTAMP:20260424T162728
CREATED:20201022T082316Z
LAST-MODIFIED:20201022T082316Z
UID:720-1603929600-1604015999@winuknew.devbyfuture.co.uk
SUMMARY:Attendance at Oxford Brookes Career Fair
DESCRIPTION:Description TBC \n29 October (time tbc) \nRegistration link will be uploaded prior to event
URL:https://winuknew.devbyfuture.co.uk/event/attendance-at-oxford-brookes-career-fair/
CATEGORIES:Central England
END:VEVENT
BEGIN:VEVENT
DTSTART;TZID=Europe/London:20201018T120000
DTEND;TZID=Europe/London:20201018T140000
DTSTAMP:20260424T162728
CREATED:20201022T081758Z
LAST-MODIFIED:20201022T081758Z
UID:707-1603022400-1603029600@winuknew.devbyfuture.co.uk
SUMMARY:Unconscious Bias Training
DESCRIPTION:If unchecked\, unconscious bias can affect the diversity of our workforce. \nAn organisation whose workforce or members are from a diverse background is potentially more creative and demonstrates better innovation than one where all the team members share the same cultural background. \nThe session includes a mix of presentation slides\, videos\, group and individual activities. It is intended for business leaders\, those who are involved in management\, recruitment or promotion of staff or anyone keen to understand more about the subject. \nTo register contact: winnorthwest@nuclearinst.com or gillian.thomas@nda.gov.uk
URL:https://winuknew.devbyfuture.co.uk/event/unconscious-bias-training/
CATEGORIES:North West
END:VEVENT
END:VCALENDAR