BEGIN:VCALENDAR
VERSION:2.0
PRODID:-//Women in Nuclear UK - ECPv6.15.12.2//NONSGML v1.0//EN
CALSCALE:GREGORIAN
METHOD:PUBLISH
X-WR-CALNAME:Women in Nuclear UK
X-ORIGINAL-URL:https://winuknew.devbyfuture.co.uk
X-WR-CALDESC:Events for Women in Nuclear UK
REFRESH-INTERVAL;VALUE=DURATION:PT1H
X-Robots-Tag:noindex
X-PUBLISHED-TTL:PT1H
BEGIN:VTIMEZONE
TZID:Europe/London
BEGIN:DAYLIGHT
TZOFFSETFROM:+0000
TZOFFSETTO:+0100
TZNAME:BST
DTSTART:20240331T010000
END:DAYLIGHT
BEGIN:STANDARD
TZOFFSETFROM:+0100
TZOFFSETTO:+0000
TZNAME:GMT
DTSTART:20241027T010000
END:STANDARD
BEGIN:DAYLIGHT
TZOFFSETFROM:+0000
TZOFFSETTO:+0100
TZNAME:BST
DTSTART:20250330T010000
END:DAYLIGHT
BEGIN:STANDARD
TZOFFSETFROM:+0100
TZOFFSETTO:+0000
TZNAME:GMT
DTSTART:20251026T010000
END:STANDARD
BEGIN:DAYLIGHT
TZOFFSETFROM:+0000
TZOFFSETTO:+0100
TZNAME:BST
DTSTART:20260329T010000
END:DAYLIGHT
BEGIN:STANDARD
TZOFFSETFROM:+0100
TZOFFSETTO:+0000
TZNAME:GMT
DTSTART:20261025T010000
END:STANDARD
BEGIN:DAYLIGHT
TZOFFSETFROM:+0000
TZOFFSETTO:+0100
TZNAME:BST
DTSTART:20270328T010000
END:DAYLIGHT
BEGIN:STANDARD
TZOFFSETFROM:+0100
TZOFFSETTO:+0000
TZNAME:GMT
DTSTART:20271031T010000
END:STANDARD
END:VTIMEZONE
BEGIN:VEVENT
DTSTART;TZID=Europe/London:20251209T130000
DTEND;TZID=Europe/London:20251209T140000
DTSTAMP:20260423T155327
CREATED:20251205T134843Z
LAST-MODIFIED:20251205T135135Z
UID:9660-1765285200-1765288800@winuknew.devbyfuture.co.uk
SUMMARY:IDN Webinar - Beyond Black History Month - Now What?
DESCRIPTION:Organised by Inclusion and Diversity in Nuclear (IDN). Black History Month 2025 may be over\, but the work continues. How do we move from symbolic celebration to meaningful\, structural change? \nJoin our expert panel as we explore: \n\nDismantling systemic barriers\nEmbedding equity in organisational culture\nKeeping Black history and voices visible year-round\n\nFree to attend – secure your spot here \nVia microsoft teams
URL:https://winuknew.devbyfuture.co.uk/event/idn-webinar-beyond-black-history-month-now-what/
CATEGORIES:UK
END:VEVENT
BEGIN:VEVENT
DTSTART;TZID=Europe/London:20251211T140000
DTEND;TZID=Europe/London:20251211T160000
DTSTAMP:20260423T155327
CREATED:20251205T140916Z
LAST-MODIFIED:20251205T140916Z
UID:9669-1765461600-1765468800@winuknew.devbyfuture.co.uk
SUMMARY:WiN Cumbria "Improve your Confidence" Workshop
DESCRIPTION:Boost your self-esteem and feel more confident in social situations at our interactive workshop!\n\n\n\nImprove your Confidence \nJoin us at Lakes College for a day dedicated to boosting your self-assurance! This in-person event will feature interactive workshops\, inspiring speakers\, and practical tips to help you step out of your comfort zone. Whether you struggle with public speaking\, networking\, or simply believing in yourself\, this event is for you. Don’t miss this opportunity to connect with like-minded individuals and take the first step towards a more confident you! \nLed by: \nDawn Watson \nSellafield Ltd. \nAn introvert in an extrovert world. \n\n\n\n\nBack by popular demand! This sold out quickly last time\, so book your spot soon. Spaces are limited. \nIf you could benefit from benefit from better confidence at work\, join us for this helpful workshop. This in-person session will include interactive sessions\, inspiring stories\, and practical tips\, with the goal of helping you be more confident. \nWhether you struggle with public speaking\, networking\, or simply believing in yourself\, don’t miss this opportunity to connect with like-minded individuals. \nThe event is targeted at those who feel that they need to improve confidence in a work situation and would benefit from this as part of their development objectives. \nThis event is 2 hours\, and can be recorded as part of your CPD points. \nThe event is face to face only\, and has restricted numbers so please register as soon as possible. There is no charge for the event. \nHeld at Lakes College\, at Lillyhall. Please arrive promptly if you can so we can get going! \nRegister here
URL:https://winuknew.devbyfuture.co.uk/event/win-cumbria-improve-your-confidence-workshop/
CATEGORIES:UK
END:VEVENT
BEGIN:VEVENT
DTSTART;TZID=Europe/London:20260224T130000
DTEND;TZID=Europe/London:20260224T144500
DTSTAMP:20260423T155327
CREATED:20251205T133741Z
LAST-MODIFIED:20251205T134051Z
UID:9655-1771938000-1771944300@winuknew.devbyfuture.co.uk
SUMMARY:NIA & WiN UK Parliamentary Networking Event
DESCRIPTION:Come and join us at the NIA and WiN UK Parliamentary networking event for a chance to connect with industry professionals and government officials. \nSecure a slot here 
URL:https://winuknew.devbyfuture.co.uk/event/nia-win-uk-parliamentary-networking-event/
CATEGORIES:UK
END:VEVENT
BEGIN:VEVENT
DTSTART;VALUE=DATE:20260512
DTEND;VALUE=DATE:20260513
DTSTAMP:20260423T155327
CREATED:20251118T094623Z
LAST-MODIFIED:20251217T150717Z
UID:9610-1778544000-1778630399@winuknew.devbyfuture.co.uk
SUMMARY:WiN UK Annual Conference 2026
DESCRIPTION:WiN UK is thrilled to announce that our Annual Conference will return on 12 May 2026 at The Vox\, Birmingham! \nFollowing the hugely successful 2025 WiN Global Annual Conference in London\, we’re excited to bring together professionals\, innovators\, and leaders once again for a day of inspiration\, networking\, and collaboration. \nRegistration is now OPEN – to book your tickets or find sponsorship opportunities visit WinUK 2026 \n 
URL:https://winuknew.devbyfuture.co.uk/event/win-uk-annual-conference-2026/
CATEGORIES:UK
END:VEVENT
END:VCALENDAR