BEGIN:VCALENDAR
VERSION:2.0
PRODID:-//Women in Nuclear UK - ECPv6.15.12.2//NONSGML v1.0//EN
CALSCALE:GREGORIAN
METHOD:PUBLISH
X-ORIGINAL-URL:https://winuknew.devbyfuture.co.uk
X-WR-CALDESC:Events for Women in Nuclear UK
REFRESH-INTERVAL;VALUE=DURATION:PT1H
X-Robots-Tag:noindex
X-PUBLISHED-TTL:PT1H
BEGIN:VTIMEZONE
TZID:Europe/London
BEGIN:DAYLIGHT
TZOFFSETFROM:+0000
TZOFFSETTO:+0100
TZNAME:BST
DTSTART:20190331T010000
END:DAYLIGHT
BEGIN:STANDARD
TZOFFSETFROM:+0100
TZOFFSETTO:+0000
TZNAME:GMT
DTSTART:20191027T010000
END:STANDARD
BEGIN:DAYLIGHT
TZOFFSETFROM:+0000
TZOFFSETTO:+0100
TZNAME:BST
DTSTART:20200329T010000
END:DAYLIGHT
BEGIN:STANDARD
TZOFFSETFROM:+0100
TZOFFSETTO:+0000
TZNAME:GMT
DTSTART:20201025T010000
END:STANDARD
BEGIN:DAYLIGHT
TZOFFSETFROM:+0000
TZOFFSETTO:+0100
TZNAME:BST
DTSTART:20210328T010000
END:DAYLIGHT
BEGIN:STANDARD
TZOFFSETFROM:+0100
TZOFFSETTO:+0000
TZNAME:GMT
DTSTART:20211031T010000
END:STANDARD
BEGIN:DAYLIGHT
TZOFFSETFROM:+0000
TZOFFSETTO:+0100
TZNAME:BST
DTSTART:20220327T010000
END:DAYLIGHT
BEGIN:STANDARD
TZOFFSETFROM:+0100
TZOFFSETTO:+0000
TZNAME:GMT
DTSTART:20221030T010000
END:STANDARD
BEGIN:DAYLIGHT
TZOFFSETFROM:+0000
TZOFFSETTO:+0100
TZNAME:BST
DTSTART:20230326T010000
END:DAYLIGHT
BEGIN:STANDARD
TZOFFSETFROM:+0100
TZOFFSETTO:+0000
TZNAME:GMT
DTSTART:20231029T010000
END:STANDARD
BEGIN:DAYLIGHT
TZOFFSETFROM:+0000
TZOFFSETTO:+0100
TZNAME:BST
DTSTART:20240331T010000
END:DAYLIGHT
BEGIN:STANDARD
TZOFFSETFROM:+0100
TZOFFSETTO:+0000
TZNAME:GMT
DTSTART:20241027T010000
END:STANDARD
BEGIN:DAYLIGHT
TZOFFSETFROM:+0000
TZOFFSETTO:+0100
TZNAME:BST
DTSTART:20250330T010000
END:DAYLIGHT
BEGIN:STANDARD
TZOFFSETFROM:+0100
TZOFFSETTO:+0000
TZNAME:GMT
DTSTART:20251026T010000
END:STANDARD
BEGIN:DAYLIGHT
TZOFFSETFROM:+0000
TZOFFSETTO:+0100
TZNAME:BST
DTSTART:20260329T010000
END:DAYLIGHT
BEGIN:STANDARD
TZOFFSETFROM:+0100
TZOFFSETTO:+0000
TZNAME:GMT
DTSTART:20261025T010000
END:STANDARD
END:VTIMEZONE
BEGIN:VEVENT
DTSTART;TZID=Europe/London:20251017T120000
DTEND;TZID=Europe/London:20251017T124500
DTSTAMP:20260423T172635
CREATED:20251002T080910Z
LAST-MODIFIED:20251002T080951Z
UID:9505-1760702400-1760705100@winuknew.devbyfuture.co.uk
SUMMARY:Understanding Menopause: Build Your Knowledge
DESCRIPTION:Despite affecting half the population for a significant portion of their lives\, until recently menopause has not been well understood or talked about—even in medical circles. The result? Many women feel unprepared and unsupported when they reach this life stage and\, at work\, many coworkers and managers are not equipped to support. \nJoin WiN Cumbria to celebrate World Menopause Day to build your knowledge of menopause and how to support people through the transition. Topics covered will include cognitive function\, moods\, weight management and vasomotor symptoms (those dreaded hot flashes and flushes). \nThis isn’t just a women’s issue—it’s a human issue. Let’s work towards building a more informed\, supportive community. \nRegister for this online event here.
URL:https://winuknew.devbyfuture.co.uk/event/understanding-menopause-build-your-knowledge/
CATEGORIES:Cumbria
END:VEVENT
BEGIN:VEVENT
DTSTART;TZID=Europe/London:20240307T130000
DTEND;TZID=Europe/London:20240307T153000
DTSTAMP:20260423T172635
CREATED:20240223T090409Z
LAST-MODIFIED:20240223T090409Z
UID:6405-1709816400-1709825400@winuknew.devbyfuture.co.uk
SUMMARY:WiN Cumbria: International Women’s Day Event
DESCRIPTION:Join us for WiN Cumbria’s International Women’s Day Event\, a celebration of women’s achievements and a platform for empowering discussions. This in-person event will take place on Thursday\, March 7\, 2024 at the Rosehill Theatre\, Whitehaven. Get ready to be inspired by influential women from across Cumbria who will share their experiences\, insights\, and advice. \nKicking the event off will be a talk from Mind Cumbria\, focusing on women’s mental health. This will be followed by a panel event\, consisting of accomplished women leaders\, activists\, and professionals\, will engage in thought-provoking conversations including this year’s IWD theme\, Inspire Inclusion. This event aims to foster dialogue\, encourage networking so have your questions at the ready. \nBy attending this event\, you will have the opportunity to connect with like-minded individuals\, expand your network\, and gain valuable knowledge from our esteemed panellists. Whether you are a student\, professional\, or simply passionate about women’s empowerment\, this event is open to everyone who wants to be part of the movement towards a more inclusive and equal society. \nDon’t miss out on this exciting event! Mark your calendars\, invite your friends\, and join us for the International Women’s Day Event at Rosehill Theatre. Together\, let’s #InspireInclusion and work towards a brighter future for all. \nReserve your space now.
URL:https://winuknew.devbyfuture.co.uk/event/win-cumbria-international-womens-day-event/
CATEGORIES:Cumbria
END:VEVENT
BEGIN:VEVENT
DTSTART;TZID=Europe/London:20240220T120000
DTEND;TZID=Europe/London:20240220T125000
DTSTAMP:20260423T172635
CREATED:20231129T104722Z
LAST-MODIFIED:20231129T104722Z
UID:5831-1708430400-1708433400@winuknew.devbyfuture.co.uk
SUMMARY:An Audience with Johanna Telfer\, Head of Behavioural Insight at Sellafield
DESCRIPTION:Join us for a captivating online event with Johanna Telfer\, the esteemed Head of Behavioural Insight at Sellafield. \nDuring this engaging event\, Johanna will share her invaluable expertise and insights into how we can all contribute to the psychological safety of our teams and bring our full selves to work. Discover how she applies her knowledge to drive positive change and enhance decision-making processes in the workplace. \nWhether you’re a professional in the field or simply curious about behavioural insight\, this event is a must-attend. Gain unique perspectives\, learn from real-life examples\, and have the opportunity to ask Johanna your burning questions. \nDon’t miss out on this incredible chance to connect with Johanna Telfer and expand your understanding of behavioural insight. Secure your spot now and prepare to be inspired!
URL:https://winuknew.devbyfuture.co.uk/event/an-audience-with-johanna-telfer-head-of-behavioural-insight-at-sellafield/
CATEGORIES:Cumbria
END:VEVENT
BEGIN:VEVENT
DTSTART;TZID=Europe/London:20240116T120000
DTEND;TZID=Europe/London:20240116T125000
DTSTAMP:20260423T172635
CREATED:20231129T104458Z
LAST-MODIFIED:20231129T104458Z
UID:6989-1705406400-1705409400@winuknew.devbyfuture.co.uk
SUMMARY:Confident Communication
DESCRIPTION:Join Helen Connolly (Head of Employee Communications\, Sellafield Ltd) and Becky Doughty (Internal Communications Manager\, Sellafield Ltd) for an exciting online event\, Confident Communication\, where you’ll learn valuable skills to enhance your communication abilities. No matter what stage of your career you’re at\, this event is for you! \nDuring this event\, we will cover various aspects of effective communication\, including public speaking\, maximising impact\, and overcoming communication barriers. Our expert speakers will share their insights and provide practical tips to help you communicate confidently in any situation. \nThis event is online meaning you can participate from the comfort of your own home or office\, eliminating the need for travel or additional expenses. \nDon’t miss out on this fantastic opportunity to enhance your communication skills and boost your confidence. Register now and secure your spot for Confident Communication!
URL:https://winuknew.devbyfuture.co.uk/event/confident-communication-2/
CATEGORIES:Cumbria
END:VEVENT
BEGIN:VEVENT
DTSTART;TZID=Europe/London:20231129T180000
DTEND;TZID=Europe/London:20231129T200000
DTSTAMP:20260423T172635
CREATED:20231106T201925Z
LAST-MODIFIED:20231106T201925Z
UID:5701-1701280800-1701288000@winuknew.devbyfuture.co.uk
SUMMARY:Film Screening: Star Makers - Energy of Tomorrow
DESCRIPTION:WiN Cumbria are proud to present a free screening of Star Makers – The Energy of Tomorrow\, a UKAEA documentary which goes behind the scenes of a landmark European nuclear fusion energy project.\, at the Rosehill Theatre\, Whitehaven. \nIn December 2021 the world’s largest and most advanced fusion energy experiment\, JET\, broke the record in producing fusion energy. In the run-up to the successful experiments\, a documentary\, Star Makers\, was filmed that captures the journey of a passionate team working to provide the world with safe\, sustainable and low carbon energy in addition to realising a world fusion energy record. Watch the trailer here. \nGet your ticket now! Free tea and coffee will be available at Messel’s Bar located within the Rosehill Theatre\, with additional refreshments available for purchase. \nProgramme as follows: \n6:00pm Networking\, tea and coffee provided \n7:00pm Star Makers screening
URL:https://winuknew.devbyfuture.co.uk/event/film-screening-star-makers-engergy-of-tomorrow/
CATEGORIES:Cumbria
END:VEVENT
BEGIN:VEVENT
DTSTART;TZID=Europe/London:20231019T050000
DTEND;TZID=Europe/London:20231019T190000
DTSTAMP:20260423T172635
CREATED:20231002T144352Z
LAST-MODIFIED:20231002T144352Z
UID:5576-1697691600-1697742000@winuknew.devbyfuture.co.uk
SUMMARY:The Best Way to Glow: Perimenopause and Menopause Awareness Workshop
DESCRIPTION:The Best Way to Glow: Perimenopause & Menopause Awareness Workshop \nWiN Cumbria are looking forward to hosting the return of ‘The Best Way to Glow’ workshop with Lynsey from Dandelion Coaching on 19th October (5-7pm). \n\nWant to know more about menopause and perimenopause?\nWhat happens to our bodies\, minds and emotions?\nHow can we support ourselves during this time?\n\nCome along and find out! \nFor yourself\, a loved one\, or colleague – all genders and ages welcome. \nAt The Town Hall\, 1st floor\, Cockermouth\, CA13 9NP \nRegister here \n 
URL:https://winuknew.devbyfuture.co.uk/event/the-best-way-to-glow-perimenopause-and-menopause-awareness-workshop/
CATEGORIES:Cumbria
END:VEVENT
BEGIN:VEVENT
DTSTART;TZID=Europe/London:20230620T120000
DTEND;TZID=Europe/London:20230620T130000
DTSTAMP:20260423T172635
CREATED:20230519T141742Z
LAST-MODIFIED:20230519T141742Z
UID:5044-1687262400-1687266000@winuknew.devbyfuture.co.uk
SUMMARY:Imposter Syndrome - Friend or Foe?
DESCRIPTION:Imposter syndrome is more common than you think! WiN Cumbria will explore some ways you can combat imposter syndrome\, reframing it to recognise the positives. In this lunch and learn session\, Laura Mathieson will provide an opportunity to share experiences of imposter syndrome and tips to ease those feelings\, helping you to feel confident in your abilities. \nRegister here 
URL:https://winuknew.devbyfuture.co.uk/event/imposter-syndrome-friend-or-foe/
CATEGORIES:Cumbria
END:VEVENT
BEGIN:VEVENT
DTSTART;TZID=Europe/London:20230524T120000
DTEND;TZID=Europe/London:20230524T125000
DTSTAMP:20260423T172635
CREATED:20230329T152352Z
LAST-MODIFIED:20230329T152352Z
UID:4916-1684929600-1684932600@winuknew.devbyfuture.co.uk
SUMMARY:An Audience with Sara Huntingdon
DESCRIPTION:WiN Cumbria will be hosting an online lunch and learn session with Sara Huntingdon\, Head of Innovation at the Nuclear Decommissioning Authority. \nSara has had an exciting career based on innovating and pushing boundaries of what is possible within the public sector. She will share her experiences from her career and provide some tips on how we can all bring innovation into our day jobs. \nRegister here \n 
URL:https://winuknew.devbyfuture.co.uk/event/an-audience-with-sara-huntingdon/
CATEGORIES:Cumbria
END:VEVENT
BEGIN:VEVENT
DTSTART;TZID=Europe/London:20230425T173000
DTEND;TZID=Europe/London:20230425T183000
DTSTAMP:20260423T172635
CREATED:20230329T151830Z
LAST-MODIFIED:20230329T151830Z
UID:4909-1682443800-1682447400@winuknew.devbyfuture.co.uk
SUMMARY:Confident Communication
DESCRIPTION:WiN UK Cumbria are hosting a workshop at National College for Nuclear\, Lillyhall covering: \n\nHow to create the conditions for success when speaking or presenting\nHow to maximise you personal impact considering what you say and how you say it\n\nRegister here
URL:https://winuknew.devbyfuture.co.uk/event/confident-communication/
CATEGORIES:Cumbria
END:VEVENT
BEGIN:VEVENT
DTSTART;TZID=Europe/London:20230314T120000
DTEND;TZID=Europe/London:20230314T130000
DTSTAMP:20260423T172635
CREATED:20230131T142702Z
LAST-MODIFIED:20230131T142702Z
UID:4655-1678795200-1678798800@winuknew.devbyfuture.co.uk
SUMMARY:Celebrating Success and the Art of Giving Feedback
DESCRIPTION:WiN Cumbria are hosting an online workshop which will cover: \n\nHow to authentically celebrate your own and others’ successes at work\nThe subtle art of giving feedback\nHow to receive feedback without squirming\n\nRegister here .
URL:https://winuknew.devbyfuture.co.uk/event/celebrating-success-and-the-art-of-giving-feedback/
CATEGORIES:Cumbria
END:VEVENT
BEGIN:VEVENT
DTSTART;TZID=Europe/London:20230308T123000
DTEND;TZID=Europe/London:20230308T160000
DTSTAMP:20260423T172635
CREATED:20230213T163726Z
LAST-MODIFIED:20230213T163726Z
UID:4690-1678278600-1678291200@winuknew.devbyfuture.co.uk
SUMMARY:A mission to change the face of the Nuclear Industry
DESCRIPTION:Celebrating five years of WiN Cumbria & International Women’s Day 2023. This event will be held at Rosehill Theatre\, Whitehaven. \nThe afternoon will include: \n• Miranda Kirschel (co founder & former president of WiN UK) discusses the need to change\nthe face of the industry\n• Panel event discussing how you can enable change within your organisation with the ability\nfor you to ask your questions about the challenges you face\n• Opportunity to partake in a Speed Mentoring session\n• Meet members from across WiN UK\, including current President\, Ivan Baldwin \nRegister
URL:https://winuknew.devbyfuture.co.uk/event/a-mission-to-change-the-face-of-the-nuclear-industry/
CATEGORIES:Cumbria
END:VEVENT
BEGIN:VEVENT
DTSTART;TZID=Europe/London:20221124T163000
DTEND;TZID=Europe/London:20221124T183000
DTSTAMP:20260423T172635
CREATED:20221114T134050Z
LAST-MODIFIED:20221114T134050Z
UID:4262-1669307400-1669314600@winuknew.devbyfuture.co.uk
SUMMARY:Best Way to Glow Workshop
DESCRIPTION:Following on from the success of the best way to glow virtual sessions\, WiN Cumbria are hosting an in-person workshop looking at menopause. \nThe workshop will build on points covered in previous webinars but is equally as valuable if you didn’t attend the previous webinars. \nDelivered by Lynsey Eland of Danelion Coaching\, who will be sharing independent unbiased information\, personal experiences and help to improve peri-menopause to post-menopause wellness. Including on how to take action with small adjustments\, that can make a big difference to your physical and mental wellbeing. \nThere will be an opportunity to ask questions you may have about the menopause to Lynsey. \nWorkshop will be held at the National College for Nuclear\, Workington. \nRegister here
URL:https://winuknew.devbyfuture.co.uk/event/best-way-to-glow-workshop/
CATEGORIES:Cumbria
END:VEVENT
BEGIN:VEVENT
DTSTART;TZID=Europe/London:20221102T120000
DTEND;TZID=Europe/London:20221102T130000
DTSTAMP:20260423T172635
CREATED:20221011T130421Z
LAST-MODIFIED:20221011T130421Z
UID:4101-1667390400-1667394000@winuknew.devbyfuture.co.uk
SUMMARY:Overcoming barriers and obstacles for your career
DESCRIPTION:WiN Cumbria are hosting an online workshop on overcoming barriers and obstacles in your career looking at the following aspects: \n\nWhat are common barriers and obstacles we face\nHow to identify and tackle self-imposed barriers\nHow to set yourself up for success with external obstacles\n\nRegister now
URL:https://winuknew.devbyfuture.co.uk/event/overcoming-barriers-and-obstacles-for-your-career/
CATEGORIES:Cumbria
END:VEVENT
BEGIN:VEVENT
DTSTART;TZID=Europe/London:20221020T120000
DTEND;TZID=Europe/London:20221020T130000
DTSTAMP:20260423T172635
CREATED:20220803T120436Z
LAST-MODIFIED:20220803T120436Z
UID:3841-1666267200-1666270800@winuknew.devbyfuture.co.uk
SUMMARY:The Best Way to Glow
DESCRIPTION:Join WiN Cumbria for ‘the best way to glow’ lunch and learn session delivered by Lynsey Eland of Dandelion Coaching. \nThis session will cover: \n\nPeri-menopause and Menopause: A introduction of the cause\, physical symptoms\, and emotional difficulties experienced with peri-menopause and menopause.\n\n\nLifestyle adjustments: Exploring simple supportive tools and tips\, helping you take positive action throughout your normal day.\n\n\nHow to access further support: Further information on how and where to access support.\n\nThe session will be delivered virtually through MS Teams and you will receive a calendar invite with the link to the webinar once you have registered for the event. \nAbout Lynsey: \nLynsey Eland founded Dandelion Coaching in 2021 offering Menopause and Peri-Menopause Awareness through The Best Way to Glow and Glow in the Workplace Workshops for individuals\, groups\, and organisations \nThis passion was born out of her personal experience of early menopause before she was 40. She also offers women individual coaching through any transitional moments in their lives. Lynsey is also a Service Manager and Trainer at Carlisle and Eden Mind with over a decade of experience. \nAbout Dandelion Coaching: \nDandelion Coaching are specialists in helping women navigate their way through the different stages of menopause. They do this through open workshops in the community\, workplace workshops and 1-2-1 coaching. \nRegister here
URL:https://winuknew.devbyfuture.co.uk/event/the-best-way-to-glow/
CATEGORIES:Cumbria
END:VEVENT
BEGIN:VEVENT
DTSTART;TZID=Europe/London:20220920T170000
DTEND;TZID=Europe/London:20220920T190000
DTSTAMP:20260423T172635
CREATED:20220812T144823Z
LAST-MODIFIED:20220812T144823Z
UID:3861-1663693200-1663700400@winuknew.devbyfuture.co.uk
SUMMARY:WiN Cumbria Mentoring Programme
DESCRIPTION:WiN Cumbria are hosting a mid-year get together at the Nuclear College for Nuclear\, Workington for the mentoring cohort. This is a chance for the cohort to come together\, share any learning and stories to help improve everyone’s experiences for the rest of the year. \nThe mentoring session is limited to those on the current mentoring programme\, however if you are interested in joining the next cohort of the mentoring programme\, please keep an eye out for the opportunity early next year or send an email to wincumbria@winuk.org.uk. \nIn association with the Centre for Leadership Performance.
URL:https://winuknew.devbyfuture.co.uk/event/win-cumbria-mentoring-programme/
CATEGORIES:Cumbria
END:VEVENT
BEGIN:VEVENT
DTSTART;TZID=Europe/London:20220623T170000
DTEND;TZID=Europe/London:20220623T180000
DTSTAMP:20260423T172635
CREATED:20220525T151155Z
LAST-MODIFIED:20220525T151155Z
UID:3436-1656003600-1656007200@winuknew.devbyfuture.co.uk
SUMMARY:Goal Setting and Motivation Workshop
DESCRIPTION:WiN Cumbria is hosting an in person workshop at the National College for Nuclear which will focus on setting and achieving your career goals. \nThis workshop will cover: \n\nIf anything is holding you back\nHow to set smarter goals\nHow to keep yourself motivated\nHow to make goals happen\n\nRegister for this free event now (limited places available)
URL:https://winuknew.devbyfuture.co.uk/event/goal-setting-and-motivation-workshop/
CATEGORIES:Cumbria
END:VEVENT
BEGIN:VEVENT
DTSTART;TZID=Europe/London:20220510T175000
DTEND;TZID=Europe/London:20220510T190000
DTSTAMP:20260423T172635
CREATED:20220425T110130Z
LAST-MODIFIED:20220425T110130Z
UID:3126-1652205000-1652209200@winuknew.devbyfuture.co.uk
SUMMARY:WiN Cumbria Mentoring Programme - Cohort 4 Launch Event
DESCRIPTION:WiN Cumbria are hosting a launch event for Mentoring Programme (Cohort 4). \nRegister your interest now to attend this in person event at National College of Nuclear\, Warrington.
URL:https://winuknew.devbyfuture.co.uk/event/win-cumbria-mentoring-programme-cohort-4-launch-event/
CATEGORIES:Cumbria
END:VEVENT
BEGIN:VEVENT
DTSTART;TZID=Europe/London:20220308T170000
DTEND;TZID=Europe/London:20220308T193000
DTSTAMP:20260423T172635
CREATED:20220225T105755Z
LAST-MODIFIED:20220225T105755Z
UID:2934-1646758800-1646767800@winuknew.devbyfuture.co.uk
SUMMARY:Break the Bias in Nuclear
DESCRIPTION:WiN Cumbria is hosting its first face to face event since March 2020. Join them for an evening in celebration of Women within the Nuclear Industry. \nCome along to catch up with each other\, celebrate International Women’s Day and the WiN Cumbria Anniversary\, as well as listening to some speakers from WiN Charter Programme – CNfN\, NTS and Morgan Sindall Infrastructure Nuclear. \nTea and cake also available. \nRegister for this event here 
URL:https://winuknew.devbyfuture.co.uk/event/break-the-bias-in-nuclear/
CATEGORIES:Cumbria
END:VEVENT
BEGIN:VEVENT
DTSTART;VALUE=DATE:20211208
DTEND;VALUE=DATE:20211210
DTSTAMP:20260423T172635
CREATED:20211125T175703Z
LAST-MODIFIED:20211125T175703Z
UID:2540-1638921600-1639094399@winuknew.devbyfuture.co.uk
SUMMARY:Telerobot demo opportunity
DESCRIPTION:Shadow Robot Company Limited are offering the opportunity for WiN UK members to attend free demonstrations of their telerobot. \nFind out more about teleoperation \nPlaces are limited. \nContact Dr. Radhika Gudipati\, Business Development Manager\, for more information: radhika@shadowrobot.com
URL:https://winuknew.devbyfuture.co.uk/event/telerobot-demo-opportunity/
LOCATION:Cockermouth\, Cumbria
CATEGORIES:Cumbria
END:VEVENT
BEGIN:VEVENT
DTSTART;TZID=Europe/London:20201125T120000
DTEND;TZID=Europe/London:20201125T120000
DTSTAMP:20260423T172635
CREATED:20201022T081354Z
LAST-MODIFIED:20201022T081354Z
UID:702-1606305600-1606305600@winuknew.devbyfuture.co.uk
SUMMARY:Moorside and a cleaner\, Net-Zero future
DESCRIPTION:Building a new Clean Energy Economy in Cumbria and the North West \nWiN Cumbria Regional Team and the Sizewell C Gender Network are delighted to offer you the opportunity to join this free webinar. \nJoin Dr Sarah Williamson\, currently seconded with NNB as Civil Programme Director for Sizewell C\, and Lynne Kellet\, Managing Legal Counsel with EDF UK’s Nuclear Newbuild Team\, for an introduction to the plans of the Moorside Clean Energy Hub to develop a clean energy ecosystem at Moorside. \nThis could not only host UK European Pressurised Reactor (EPRs) but also serve as a pathway to our future by hosting Small Modular Reactors (SMRs) and  Advanced Modular Reactors (AMRs)\, whilst creating linkages with emerging technologies such as low-carbon hydrogen and direct air capture. \nWednesday 25 November 2020 (12:00 – 13:00) \nTo register for this free event please email sara.warwick@sizewellc.com
URL:https://winuknew.devbyfuture.co.uk/event/moorside-webinar/
CATEGORIES:Cumbria
END:VEVENT
END:VCALENDAR